BEGIN:VCALENDAR
VERSION:2.0
PRODID:-//The Shed Leicester - ECPv6.15.20//NONSGML v1.0//EN
CALSCALE:GREGORIAN
METHOD:PUBLISH
X-ORIGINAL-URL:https://getintheshed.co.uk
X-WR-CALDESC:Events for The Shed Leicester
REFRESH-INTERVAL;VALUE=DURATION:PT1H
X-Robots-Tag:noindex
X-PUBLISHED-TTL:PT1H
BEGIN:VTIMEZONE
TZID:Europe/London
BEGIN:DAYLIGHT
TZOFFSETFROM:+0000
TZOFFSETTO:+0100
TZNAME:BST
DTSTART:20240331T010000
END:DAYLIGHT
BEGIN:STANDARD
TZOFFSETFROM:+0100
TZOFFSETTO:+0000
TZNAME:GMT
DTSTART:20241027T010000
END:STANDARD
BEGIN:DAYLIGHT
TZOFFSETFROM:+0000
TZOFFSETTO:+0100
TZNAME:BST
DTSTART:20250330T010000
END:DAYLIGHT
BEGIN:STANDARD
TZOFFSETFROM:+0100
TZOFFSETTO:+0000
TZNAME:GMT
DTSTART:20251026T010000
END:STANDARD
BEGIN:DAYLIGHT
TZOFFSETFROM:+0000
TZOFFSETTO:+0100
TZNAME:BST
DTSTART:20260329T010000
END:DAYLIGHT
BEGIN:STANDARD
TZOFFSETFROM:+0100
TZOFFSETTO:+0000
TZNAME:GMT
DTSTART:20261025T010000
END:STANDARD
END:VTIMEZONE
BEGIN:VEVENT
DTSTART;TZID=Europe/London:20250917T193000
DTEND;TZID=Europe/London:20250917T223000
DTSTAMP:20260424T212513
CREATED:20250828T193248Z
LAST-MODIFIED:20250828T220234Z
UID:284-1758137400-1758148200@getintheshed.co.uk
SUMMARY:Andrew Cassara - Dead End Disco Tour
DESCRIPTION:Andrew Cassara is a Canadian-born Pop/Rock recording artist from Ottawa\, Ontario. Together with his management team at SGMGroupArtists\, Andrew has been developing his talents with great devotion and an unwavering work ethic. \nSince 2013\, he has consistently released new music while performing live both domestically and internationally. He has developed a very strong presence online\, and with a significantly engaged social media influence\, he is establishing an ever-growing worldwide fan base.\nAndrew has a brand-new full length (factor supported) album releasing in May 2020 entitled “Freak On Repeat” The first single “Bad Bad” was released on March 27th. \n\n\nBook Now
URL:https://getintheshed.co.uk/event/andrew-cassara-dead-end-disco-tour/
LOCATION:The Shed\, 5 Yeoman Street\, Leicester\, LE1 1UT\, United Kingdom
CATEGORIES:Gig
ATTACH;FMTTYPE=image/jpeg:https://getintheshed.co.uk/wp-content/uploads/2025/08/https___cdn.evbuc_.com_images_1025489973_84452490024_1_original.jpeg
END:VEVENT
BEGIN:VEVENT
DTSTART;TZID=Europe/London:20250830T193000
DTEND;TZID=Europe/London:20250830T223000
DTSTAMP:20260424T212513
CREATED:20250805T210405Z
LAST-MODIFIED:20250828T220927Z
UID:267-1756582200-1756593000@getintheshed.co.uk
SUMMARY:Rusted - Busted Tribute + Support from Jijjy
DESCRIPTION:Get ready for a nostalgic night of pop-punk anthems with Rusted\, Leicester’s ultimate Busted tribute band! Bringing all the energy\, fun\, and infectious hooks of the original trio\, Rusted will take you back to the early 2000s with hits like Year 3000\, Crashed the Wedding\, and What I Go to School For. \nJoin us for an unforgettable evening packed with singalongs\, big riffs\, and a true Busted vibe – all performed live by one of Leicester’s most exciting local acts. Don’t miss it! \n\n\nBook Now
URL:https://getintheshed.co.uk/event/rusted-busted-tribute/
LOCATION:The Shed\, 5 Yeoman Street\, Leicester\, LE1 1UT\, United Kingdom
CATEGORIES:Gig
ATTACH;FMTTYPE=image/jpeg:https://getintheshed.co.uk/wp-content/uploads/2025/08/Rusted-30th-Aug-Web.jpg
END:VEVENT
BEGIN:VEVENT
DTSTART;TZID=Europe/London:20250529T184500
DTEND;TZID=Europe/London:20250530T030000
DTSTAMP:20260424T212513
CREATED:20250521T170018Z
LAST-MODIFIED:20250521T170035Z
UID:186-1748544300-1748574000@getintheshed.co.uk
SUMMARY:DMU Music Society
DESCRIPTION:Please remember to invite your friends\, your families\, anyone who you fancy bringing along. Doors are 6:45pm and entry is Free!\nAfter the showcase\, we will be having Karaoke downstairs in the vault\, so start thinking up some tunes and come along for a great night of music ♡
URL:https://getintheshed.co.uk/event/dmu-music-society-genre-mash/
LOCATION:The Shed\, 5 Yeoman Street\, Leicester\, LE1 1UT\, United Kingdom
CATEGORIES:Club Night,Gig
ATTACH;FMTTYPE=image/png:https://getintheshed.co.uk/wp-content/uploads/2025/05/292770510_414823907349319_5657725664685150215_n.png
END:VEVENT
BEGIN:VEVENT
DTSTART;TZID=Europe/London:20250524T190000
DTEND;TZID=Europe/London:20250524T223000
DTSTAMP:20260424T212513
CREATED:20250521T164549Z
LAST-MODIFIED:20250521T165452Z
UID:173-1748113200-1748125800@getintheshed.co.uk
SUMMARY:Aethers Reckoning + Empress Misery
DESCRIPTION:Double Headliner Live Music\nEmpress Misery x Æthers Reckoning\nSupported by\nVextra & Outcry for Mercy\nDoors: 7pm\n£6 ADV / £8 OTD\nUnleash the pit! \n\n  \n    Book Now
URL:https://getintheshed.co.uk/event/aethers-reckoning-empress-misery-the-shed-leicester-24-05-25/
LOCATION:The Shed\, 5 Yeoman Street\, Leicester\, LE1 1UT\, United Kingdom
CATEGORIES:Gig
ATTACH;FMTTYPE=image/jpeg:https://getintheshed.co.uk/wp-content/uploads/2025/05/493717372_1068715431970638_4673402243472776677_n.jpeg
END:VEVENT
END:VCALENDAR